Package: ribor Version: 1.18.0 Command: /Library/Frameworks/R.framework/Resources/bin/R CMD build --keep-empty-dirs --no-resave-data ribor StartedAt: 2025-02-03 21:43:09 -0500 (Mon, 03 Feb 2025) EndedAt: 2025-02-03 21:45:23 -0500 (Mon, 03 Feb 2025) EllapsedTime: 133.8 seconds RetCode: 0 Status: OK PackageFile: ribor_1.18.0.tar.gz PackageFileSize: 4.615 MiB