Package: ribor Version: 1.18.0 Command: rm -rf ribor.buildbin-libdir && mkdir ribor.buildbin-libdir && /Users/biocbuild/BBS/utils/build-universal.sh ribor_1.18.0.tar.gz /Library/Frameworks/R.framework/Resources/bin/R ribor.buildbin-libdir StartedAt: 2025-01-28 14:21:30 -0500 (Tue, 28 Jan 2025) EndedAt: 2025-01-28 14:22:02 -0500 (Tue, 28 Jan 2025) EllapsedTime: 32.6 seconds RetCode: 0 Status: OK PackageFile: ribor_1.18.0.tgz PackageFileSize: 4.829 MiB