Package: riboSeqR Version: 1.40.0 Command: /home/biocbuild/R/R/bin/R CMD check --install=check:riboSeqR.install-out.txt --library=/home/biocbuild/R/R/site-library --no-vignettes --timings riboSeqR_1.40.0.tar.gz StartedAt: 2025-02-04 10:25:40 -0000 (Tue, 04 Feb 2025) EndedAt: 2025-02-04 10:27:48 -0000 (Tue, 04 Feb 2025) EllapsedTime: 128.2 seconds RetCode: 0 Status: OK CheckDir: riboSeqR.Rcheck Warnings: 0