Package: riboSeqR Version: 1.40.0 Command: /home/biocbuild/bbs-3.20-bioc/R/bin/R CMD check --install=check:riboSeqR.install-out.txt --library=/home/biocbuild/bbs-3.20-bioc/R/site-library --timings riboSeqR_1.40.0.tar.gz StartedAt: 2025-04-01 01:33:07 -0400 (Tue, 01 Apr 2025) EndedAt: 2025-04-01 01:34:57 -0400 (Tue, 01 Apr 2025) EllapsedTime: 110.1 seconds RetCode: 0 Status: OK CheckDir: riboSeqR.Rcheck Warnings: 0