Package: rhdf5 Version: 2.50.2 Command: chmod a+r rhdf5 -R && F:\biocbuild\bbs-3.20-bioc\R\bin\R.exe CMD build --keep-empty-dirs --no-resave-data rhdf5 StartedAt: 2025-03-31 21:26:44 -0400 (Mon, 31 Mar 2025) EndedAt: 2025-03-31 21:29:53 -0400 (Mon, 31 Mar 2025) EllapsedTime: 189.5 seconds RetCode: 0 Status: OK PackageFile: rhdf5_2.50.2.tar.gz PackageFileSize: 1.2 MiB