Package: rhdf5 Version: 2.50.2 Command: /home/biocbuild/bbs-3.20-bioc/R/bin/R CMD build --keep-empty-dirs --no-resave-data --md5 rhdf5 StartedAt: 2025-01-27 19:44:33 -0500 (Mon, 27 Jan 2025) EndedAt: 2025-01-27 19:49:58 -0500 (Mon, 27 Jan 2025) EllapsedTime: 324.3 seconds RetCode: 0 Status: OK PackageFile: rhdf5_2.50.2.tar.gz PackageFileSize: 1.249 MiB