Package: rhdf5 Version: 2.50.2 Command: /Library/Frameworks/R.framework/Resources/bin/R CMD INSTALL rhdf5 StartedAt: 2025-03-31 15:11:18 -0400 (Mon, 31 Mar 2025) EndedAt: 2025-03-31 15:11:34 -0400 (Mon, 31 Mar 2025) EllapsedTime: 15.9 seconds RetCode: 0 Status: OK