Package: rgoslin Version: 1.10.0 Command: /home/biocbuild/R/R/bin/R CMD INSTALL rgoslin StartedAt: 2025-03-31 21:11:30 -0000 (Mon, 31 Mar 2025) EndedAt: 2025-03-31 21:15:02 -0000 (Mon, 31 Mar 2025) EllapsedTime: 211.9 seconds RetCode: 0 Status: OK