Package: rgoslin Version: 1.10.0 Command: /home/biocbuild/R/R/bin/R CMD build --keep-empty-dirs --no-resave-data rgoslin StartedAt: 2025-04-01 02:02:14 -0000 (Tue, 01 Apr 2025) EndedAt: 2025-04-01 02:06:31 -0000 (Tue, 01 Apr 2025) EllapsedTime: 257.2 seconds RetCode: 0 Status: OK PackageFile: rgoslin_1.10.0.tar.gz PackageFileSize: 533 KiB