Package: rfaRm Version: 1.18.0 Command: F:\biocbuild\bbs-3.20-bioc\R\bin\R.exe CMD INSTALL rfaRm StartedAt: 2025-02-10 16:57:25 -0500 (Mon, 10 Feb 2025) EndedAt: 2025-02-10 16:57:47 -0500 (Mon, 10 Feb 2025) EllapsedTime: 22.2 seconds RetCode: 0 Status: OK