Package: rfaRm Version: 1.18.0 Command: rm -rf rfaRm.buildbin-libdir && mkdir rfaRm.buildbin-libdir && F:\biocbuild\bbs-3.20-bioc\R\bin\R.exe CMD INSTALL --build --library=rfaRm.buildbin-libdir rfaRm_1.18.0.tar.gz StartedAt: 2025-02-11 09:17:05 -0500 (Tue, 11 Feb 2025) EndedAt: 2025-02-11 09:17:25 -0500 (Tue, 11 Feb 2025) EllapsedTime: 20.1 seconds RetCode: 0 Status: OK PackageFile: rfaRm_1.18.0.zip PackageFileSize: 480.6 KiB