Package: rfaRm Version: 1.18.0 Command: /home/biocbuild/bbs-3.20-bioc/R/bin/R CMD INSTALL rfaRm StartedAt: 2025-02-10 15:57:58 -0500 (Mon, 10 Feb 2025) EndedAt: 2025-02-10 15:58:11 -0500 (Mon, 10 Feb 2025) EllapsedTime: 12.7 seconds RetCode: 0 Status: OK