Package: rfPred Version: 1.44.0 Command: /home/biocbuild/R/R/bin/R CMD build --keep-empty-dirs --no-resave-data rfPred StartedAt: 2025-01-28 02:45:09 -0000 (Tue, 28 Jan 2025) EndedAt: 2025-01-28 02:45:30 -0000 (Tue, 28 Jan 2025) EllapsedTime: 21.0 seconds RetCode: 0 Status: OK PackageFile: rfPred_1.44.0.tar.gz PackageFileSize: 1.044 MiB