Package: rfPred Version: 1.44.0 Command: /Library/Frameworks/R.framework/Resources/bin/R CMD INSTALL rfPred StartedAt: 2025-01-27 15:33:03 -0500 (Mon, 27 Jan 2025) EndedAt: 2025-01-27 15:33:29 -0500 (Mon, 27 Jan 2025) EllapsedTime: 25.9 seconds RetCode: 0 Status: OK