Package: rfPred Version: 1.44.0 Command: /Library/Frameworks/R.framework/Resources/bin/R CMD build --keep-empty-dirs --no-resave-data rfPred StartedAt: 2025-01-27 21:56:50 -0500 (Mon, 27 Jan 2025) EndedAt: 2025-01-27 21:57:35 -0500 (Mon, 27 Jan 2025) EllapsedTime: 45.7 seconds RetCode: 0 Status: OK PackageFile: rfPred_1.44.0.tar.gz PackageFileSize: 1.053 MiB