Package: rfPred Version: 1.44.0 Command: rm -rf rfPred.buildbin-libdir && mkdir rfPred.buildbin-libdir && /Users/biocbuild/BBS/utils/build-universal.sh rfPred_1.44.0.tar.gz /Library/Frameworks/R.framework/Resources/bin/R rfPred.buildbin-libdir StartedAt: 2025-01-28 14:20:04 -0500 (Tue, 28 Jan 2025) EndedAt: 2025-01-28 14:20:57 -0500 (Tue, 28 Jan 2025) EllapsedTime: 52.9 seconds RetCode: 0 Status: OK PackageFile: rfPred_1.44.0.tgz PackageFileSize: 1.076 MiB