Package: rexposome Version: 1.28.0 Command: /home/biocbuild/R/R/bin/R CMD INSTALL rexposome StartedAt: 2025-03-31 21:01:01 -0000 (Mon, 31 Mar 2025) EndedAt: 2025-03-31 21:01:31 -0000 (Mon, 31 Mar 2025) EllapsedTime: 29.8 seconds RetCode: 0 Status: OK