Package: rexposome Version: 1.28.0 Command: /home/biocbuild/R/R/bin/R CMD build --keep-empty-dirs --no-resave-data rexposome StartedAt: 2025-04-01 02:01:21 -0000 (Tue, 01 Apr 2025) EndedAt: 2025-04-01 02:03:39 -0000 (Tue, 01 Apr 2025) EllapsedTime: 138.1 seconds RetCode: 0 Status: OK PackageFile: rexposome_1.28.0.tar.gz PackageFileSize: 5.787 MiB