Package: rexposome Version: 1.28.0 Command: /Library/Frameworks/R.framework/Resources/bin/R CMD INSTALL rexposome StartedAt: 2025-03-31 16:23:07 -0400 (Mon, 31 Mar 2025) EndedAt: 2025-03-31 16:23:57 -0400 (Mon, 31 Mar 2025) EllapsedTime: 49.5 seconds RetCode: 0 Status: OK