Package: rexposome Version: 1.28.0 Command: /Library/Frameworks/R.framework/Resources/bin/R CMD check --install=check:rexposome.install-out.txt --library=/Library/Frameworks/R.framework/Resources/library --no-vignettes --timings rexposome_1.28.0.tar.gz StartedAt: 2025-04-02 06:01:01 -0400 (Wed, 02 Apr 2025) EndedAt: 2025-04-02 06:03:55 -0400 (Wed, 02 Apr 2025) EllapsedTime: 173.9 seconds RetCode: 0 Status: WARNINGS CheckDir: rexposome.Rcheck Warnings: 5