Package: rexposome Version: 1.28.0 Command: /Library/Frameworks/R.framework/Resources/bin/R CMD build --keep-empty-dirs --no-resave-data rexposome StartedAt: 2025-04-01 06:07:21 -0400 (Tue, 01 Apr 2025) EndedAt: 2025-04-01 06:08:59 -0400 (Tue, 01 Apr 2025) EllapsedTime: 97.4 seconds RetCode: 0 Status: OK PackageFile: rexposome_1.28.0.tar.gz PackageFileSize: 8.649 MiB