Package: retrofit Version: 1.6.0 Command: /home/biocbuild/R/R/bin/R CMD build --keep-empty-dirs --no-resave-data retrofit StartedAt: 2025-04-01 02:01:12 -0000 (Tue, 01 Apr 2025) EndedAt: 2025-04-01 02:02:14 -0000 (Tue, 01 Apr 2025) EllapsedTime: 62.0 seconds RetCode: 0 Status: OK PackageFile: retrofit_1.6.0.tar.gz PackageFileSize: 3.895 MiB