Package: retrofit Version: 1.6.0 Command: F:\biocbuild\bbs-3.20-bioc\R\bin\R.exe CMD INSTALL retrofit StartedAt: 2025-01-27 15:27:48 -0500 (Mon, 27 Jan 2025) EndedAt: 2025-01-27 15:28:47 -0500 (Mon, 27 Jan 2025) EllapsedTime: 59.3 seconds RetCode: 0 Status: OK