Package: retrofit Version: 1.6.0 Command: chmod a+r retrofit -R && F:\biocbuild\bbs-3.20-bioc\R\bin\R.exe CMD build --keep-empty-dirs --no-resave-data retrofit StartedAt: 2025-01-27 21:27:57 -0500 (Mon, 27 Jan 2025) EndedAt: 2025-01-27 21:29:03 -0500 (Mon, 27 Jan 2025) EllapsedTime: 65.5 seconds RetCode: 0 Status: OK PackageFile: retrofit_1.6.0.tar.gz PackageFileSize: 3.596 MiB