Package: regutools Version: 1.18.0 Command: /home/biocbuild/R/R/bin/R CMD build --keep-empty-dirs --no-resave-data regutools StartedAt: 2025-04-01 01:59:38 -0000 (Tue, 01 Apr 2025) EndedAt: 2025-04-01 02:01:24 -0000 (Tue, 01 Apr 2025) EllapsedTime: 106.0 seconds RetCode: 0 Status: OK PackageFile: regutools_1.18.0.tar.gz PackageFileSize: 388.7 KiB