Package: regutools Version: 1.18.0 Command: /home/biocbuild/bbs-3.20-bioc/R/bin/R CMD INSTALL regutools StartedAt: 2025-03-31 15:42:29 -0400 (Mon, 31 Mar 2025) EndedAt: 2025-03-31 15:43:21 -0400 (Mon, 31 Mar 2025) EllapsedTime: 52.1 seconds RetCode: 0 Status: OK