Package: regutools Version: 1.18.0 Command: /Library/Frameworks/R.framework/Resources/bin/R CMD build --keep-empty-dirs --no-resave-data regutools StartedAt: 2025-03-31 21:22:17 -0400 (Mon, 31 Mar 2025) EndedAt: 2025-03-31 21:25:04 -0400 (Mon, 31 Mar 2025) EllapsedTime: 167.2 seconds RetCode: 0 Status: OK PackageFile: regutools_1.18.0.tar.gz PackageFileSize: 379 KiB