Package: regsplice Version: 1.32.0 Command: /Library/Frameworks/R.framework/Resources/bin/R CMD check --install=check:regsplice.install-out.txt --library=/Library/Frameworks/R.framework/Resources/library --no-vignettes --timings regsplice_1.32.0.tar.gz StartedAt: 2025-04-01 07:52:20 -0400 (Tue, 01 Apr 2025) EndedAt: 2025-04-01 07:59:35 -0400 (Tue, 01 Apr 2025) EllapsedTime: 435.1 seconds RetCode: 0 Status: OK CheckDir: regsplice.Rcheck Warnings: 0