Package: regioneReloaded Version: 1.8.0 Command: /home/biocbuild/R/R/bin/R CMD INSTALL regioneReloaded StartedAt: 2025-02-03 20:43:00 -0000 (Mon, 03 Feb 2025) EndedAt: 2025-02-03 20:43:42 -0000 (Mon, 03 Feb 2025) EllapsedTime: 42.5 seconds RetCode: 0 Status: OK