Package: regioneReloaded Version: 1.8.0 Command: /home/biocbuild/R/R/bin/R CMD build --keep-empty-dirs --no-resave-data regioneReloaded StartedAt: 2025-04-01 01:59:10 -0000 (Tue, 01 Apr 2025) EndedAt: 2025-04-01 02:00:53 -0000 (Tue, 01 Apr 2025) EllapsedTime: 103.0 seconds RetCode: 0 Status: OK PackageFile: regioneReloaded_1.8.0.tar.gz PackageFileSize: 2.433 MiB