Package: regioneReloaded Version: 1.8.0 Command: F:\biocbuild\bbs-3.20-bioc\R\bin\R.exe CMD check --no-multiarch --install=check:regioneReloaded.install-out.txt --library=F:\biocbuild\bbs-3.20-bioc\R\library --no-vignettes --timings regioneReloaded_1.8.0.tar.gz StartedAt: 2025-02-11 05:20:32 -0500 (Tue, 11 Feb 2025) EndedAt: 2025-02-11 05:29:03 -0500 (Tue, 11 Feb 2025) EllapsedTime: 511.2 seconds RetCode: 0 Status: OK CheckDir: regioneReloaded.Rcheck Warnings: 0