Package: regioneReloaded Version: 1.8.0 Command: chmod a+r regioneReloaded -R && F:\biocbuild\bbs-3.20-bioc\R\bin\R.exe CMD build --keep-empty-dirs --no-resave-data regioneReloaded StartedAt: 2025-02-03 21:36:46 -0500 (Mon, 03 Feb 2025) EndedAt: 2025-02-03 21:39:11 -0500 (Mon, 03 Feb 2025) EllapsedTime: 145.0 seconds RetCode: 0 Status: OK PackageFile: regioneReloaded_1.8.0.tar.gz PackageFileSize: 2.564 MiB