Package: regioneReloaded Version: 1.8.0 Command: /home/biocbuild/bbs-3.20-bioc/R/bin/R CMD check --install=check:regioneReloaded.install-out.txt --library=/home/biocbuild/bbs-3.20-bioc/R/site-library --timings regioneReloaded_1.8.0.tar.gz StartedAt: 2025-02-11 01:31:55 -0500 (Tue, 11 Feb 2025) EndedAt: 2025-02-11 01:38:55 -0500 (Tue, 11 Feb 2025) EllapsedTime: 420.6 seconds RetCode: 0 Status: OK CheckDir: regioneReloaded.Rcheck Warnings: 0