Package: regioneReloaded Version: 1.8.0 Command: /home/biocbuild/bbs-3.20-bioc/R/bin/R CMD build --keep-empty-dirs --no-resave-data --md5 regioneReloaded StartedAt: 2025-02-10 18:49:19 -0500 (Mon, 10 Feb 2025) EndedAt: 2025-02-10 18:50:35 -0500 (Mon, 10 Feb 2025) EllapsedTime: 76.1 seconds RetCode: 0 Status: OK PackageFile: regioneReloaded_1.8.0.tar.gz PackageFileSize: 4.142 MiB