Package: regioneReloaded Version: 1.8.0 Command: /Library/Frameworks/R.framework/Resources/bin/R CMD INSTALL regioneReloaded StartedAt: 2025-03-31 15:36:44 -0400 (Mon, 31 Mar 2025) EndedAt: 2025-03-31 15:37:57 -0400 (Mon, 31 Mar 2025) EllapsedTime: 73.1 seconds RetCode: 0 Status: OK