Package: regioneReloaded Version: 1.8.0 Command: /Library/Frameworks/R.framework/Resources/bin/R CMD check --install=check:regioneReloaded.install-out.txt --library=/Library/Frameworks/R.framework/Resources/library --no-vignettes --timings regioneReloaded_1.8.0.tar.gz StartedAt: 2025-04-01 07:51:29 -0400 (Tue, 01 Apr 2025) EndedAt: 2025-04-01 08:05:54 -0400 (Tue, 01 Apr 2025) EllapsedTime: 865.2 seconds RetCode: 0 Status: OK CheckDir: regioneReloaded.Rcheck Warnings: 0