Package: regioneReloaded Version: 1.8.0 Command: /Library/Frameworks/R.framework/Resources/bin/R CMD INSTALL regioneReloaded StartedAt: 2025-02-10 16:11:35 -0500 (Mon, 10 Feb 2025) EndedAt: 2025-02-10 16:12:18 -0500 (Mon, 10 Feb 2025) EllapsedTime: 43.2 seconds RetCode: 0 Status: OK