Package: regioneReloaded Version: 1.8.0 Command: /Library/Frameworks/R.framework/Resources/bin/R CMD check --install=check:regioneReloaded.install-out.txt --library=/Library/Frameworks/R.framework/Resources/library --no-vignettes --timings regioneReloaded_1.8.0.tar.gz StartedAt: 2025-02-12 06:30:37 -0500 (Wed, 12 Feb 2025) EndedAt: 2025-02-12 06:37:50 -0500 (Wed, 12 Feb 2025) EllapsedTime: 432.6 seconds RetCode: 0 Status: OK CheckDir: regioneReloaded.Rcheck Warnings: 0