Package: regionalpcs Version: 1.4.0 Command: /home/biocbuild/R/R/bin/R CMD INSTALL regionalpcs StartedAt: 2025-01-30 21:00:03 -0000 (Thu, 30 Jan 2025) EndedAt: 2025-01-30 21:00:05 -0000 (Thu, 30 Jan 2025) EllapsedTime: 2.0 seconds RetCode: 0 Status: OK