Package: regionReport Version: 1.40.0 Command: /home/biocbuild/R/R/bin/R CMD INSTALL regionReport StartedAt: 2025-02-03 20:56:27 -0000 (Mon, 03 Feb 2025) EndedAt: 2025-02-03 20:57:23 -0000 (Mon, 03 Feb 2025) EllapsedTime: 56.2 seconds RetCode: 0 Status: OK