Package: regionReport Version: 1.40.0 Command: /home/biocbuild/R/R/bin/R CMD build --keep-empty-dirs --no-resave-data regionReport StartedAt: 2025-02-04 02:11:32 -0000 (Tue, 04 Feb 2025) EndedAt: 2025-02-04 02:12:54 -0000 (Tue, 04 Feb 2025) EllapsedTime: 82.1 seconds RetCode: 0 Status: OK PackageFile: regionReport_1.40.0.tar.gz PackageFileSize: 775.7 KiB