Package: regionReport Version: 1.40.0 Command: /Library/Frameworks/R.framework/Resources/bin/R CMD check --install=check:regionReport.install-out.txt --library=/Library/Frameworks/R.framework/Resources/library --no-vignettes --timings regionReport_1.40.0.tar.gz StartedAt: 2025-04-02 05:49:00 -0400 (Wed, 02 Apr 2025) EndedAt: 2025-04-02 05:59:40 -0400 (Wed, 02 Apr 2025) EllapsedTime: 640.1 seconds RetCode: 0 Status: OK CheckDir: regionReport.Rcheck Warnings: 0