Package: recoup Version: 1.34.0 Command: /home/biocbuild/bbs-3.20-bioc/R/bin/R CMD build --keep-empty-dirs --no-resave-data --md5 recoup StartedAt: 2025-03-31 18:44:33 -0400 (Mon, 31 Mar 2025) EndedAt: 2025-03-31 18:45:28 -0400 (Mon, 31 Mar 2025) EllapsedTime: 55.1 seconds RetCode: 0 Status: OK PackageFile: recoup_1.34.0.tar.gz PackageFileSize: 2.254 MiB