Package: recount3 Version: 1.16.0 Command: /home/biocbuild/bbs-3.20-bioc/R/bin/R CMD build --keep-empty-dirs --no-resave-data --md5 recount3 StartedAt: 2025-02-03 18:56:07 -0500 (Mon, 03 Feb 2025) EndedAt: 2025-02-03 18:58:09 -0500 (Mon, 03 Feb 2025) EllapsedTime: 122.2 seconds RetCode: 0 Status: OK PackageFile: recount3_1.16.0.tar.gz PackageFileSize: 565.3 KiB