Package: reconsi Version: 1.18.0 Command: chmod a+r reconsi -R && F:\biocbuild\bbs-3.20-bioc\R\bin\R.exe CMD build --keep-empty-dirs --no-resave-data reconsi StartedAt: 2025-01-27 21:25:11 -0500 (Mon, 27 Jan 2025) EndedAt: 2025-01-27 21:27:01 -0500 (Mon, 27 Jan 2025) EllapsedTime: 110.1 seconds RetCode: 0 Status: OK PackageFile: reconsi_1.18.0.tar.gz PackageFileSize: 95.52 KiB