Package: reconsi Version: 1.18.0 Command: /home/biocbuild/bbs-3.20-bioc/R/bin/R CMD INSTALL reconsi StartedAt: 2025-02-03 15:55:47 -0500 (Mon, 03 Feb 2025) EndedAt: 2025-02-03 15:56:07 -0500 (Mon, 03 Feb 2025) EllapsedTime: 19.9 seconds RetCode: 0 Status: OK