Package: reconsi Version: 1.18.0 Command: /home/biocbuild/bbs-3.20-bioc/R/bin/R CMD build --keep-empty-dirs --no-resave-data --md5 reconsi StartedAt: 2025-02-03 18:55:58 -0500 (Mon, 03 Feb 2025) EndedAt: 2025-02-03 18:57:14 -0500 (Mon, 03 Feb 2025) EllapsedTime: 76.1 seconds RetCode: 0 Status: OK PackageFile: reconsi_1.18.0.tar.gz PackageFileSize: 130.1 KiB