Package: reconsi Version: 1.18.0 Command: rm -rf reconsi.buildbin-libdir && mkdir reconsi.buildbin-libdir && /Users/biocbuild/BBS/utils/build-universal.sh reconsi_1.18.0.tar.gz /Library/Frameworks/R.framework/Resources/bin/R reconsi.buildbin-libdir StartedAt: 2025-01-28 14:17:37 -0500 (Tue, 28 Jan 2025) EndedAt: 2025-01-28 14:18:58 -0500 (Tue, 28 Jan 2025) EllapsedTime: 81.5 seconds RetCode: 0 Status: OK PackageFile: reconsi_1.18.0.tgz PackageFileSize: 207.3 KiB