Package: rebook Version: 1.16.0 Command: /Library/Frameworks/R.framework/Resources/bin/R CMD build --keep-empty-dirs --no-resave-data rebook StartedAt: 2025-01-27 21:52:36 -0500 (Mon, 27 Jan 2025) EndedAt: 2025-01-27 21:53:25 -0500 (Mon, 27 Jan 2025) EllapsedTime: 48.9 seconds RetCode: 0 Status: OK PackageFile: rebook_1.16.0.tar.gz PackageFileSize: 262.6 KiB