Package: rebook Version: 1.16.0 Command: /Library/Frameworks/R.framework/Resources/bin/R CMD build --keep-empty-dirs --no-resave-data rebook StartedAt: 2025-01-28 06:12:53 -0500 (Tue, 28 Jan 2025) EndedAt: 2025-01-28 06:13:26 -0500 (Tue, 28 Jan 2025) EllapsedTime: 32.8 seconds RetCode: 0 Status: OK PackageFile: rebook_1.16.0.tar.gz PackageFileSize: 262.6 KiB